BEGIN:VCALENDAR
PRODID:-//MyTestProject//EN
VERSION:2.0
BEGIN:VEVENT
SUMMARY;LANGUAGE=en-us:Chess Club
CLASS:PUBLIC
CREATED:20260421T125406Z
DESCRIPTION:<p>Looking for somewhere to test your chess skills? Want to learn how to play? The library is the place to be! Everyone, no matter your age or skill level, is invited to join. Chess Club meets every Monday at the Headquarters Library.&nbsp;</p>
DTSTART:2024-03-045:00 PM
DTEND:2024-03-046:00 PM
SEQUENCE:0
UID:6657af84-256c-417d-b3f8-b45a05ca4689
LOCATION:Headquarters
END:VEVENT
END:VCALENDAR
